Felt | Verdi |
AlreadyApplied | True |
Aperture | 22.0 |
ApertureValue | 22.0 |
BitsPerSample (1) | 16, 16, 16 |
BitsPerSample (2) | 16 16 16 |
BitsPerSample | 8 |
BlueHue | 0 |
BlueSaturation | 0 |
Brightness | +42 |
CameraProfile | ACR 4.6 |
ChromaticAberrationB | 0 |
ChromaticAberrationR | 0 |
CircleOfConfusion | 0.030 mm |
Clarity | +30 |
ColorComponents | 3 |
ColorMode | RGB |
ColorNoiseReduction | 10 |
ColorSpace | sRGB |
ColorTemperature | 9645 |
Contrast | +19 |
ConvertToGrayscale | False |
CopyrightFlag | False |
CreateDate (1) | 2010:10:25 21:00:47+02:00 |
CreateDate | 2008:11:16 16:49:00 |
CreatorTool | Adobe Photoshop CS3 Macintosh |
CropAngle | -0.579187 |
CropBottom | 0.979334 |
CropHeight | 2834 |
CropLeft | 0.002456 |
CropRight | 0.99727 |
CropTop | 0.020983 |
CropUnit | pixels |
CropWidth | 4317 |
CustomRendered | Normal |
DateTimeDigitized | 2008:11:16 16:49:00+01:00 |
DateTimeOriginal (1) | 2008:11:16 16:49:00+01:00 |
DateTimeOriginal | 2008:11:16 16:49:00 |
Defringe | 0 |
ExifImageHeight | 900 |
ExifImageWidth | 1200 |
Exposure | -1.01 |
ExposureCompensation | -1/3 |
ExposureMode | Auto |
ExposureProgram | Aperture-priority AE |
ExposureTime | 1 |
FillLight | 6 |
Firmware | 1.1.0 |
Flash | Off, Did not fire |
FlashCompensation | 0 |
FlashFired | False |
FlashFunction | False |
FlashMode | Off |
FlashRedEyeMode | False |
FlashReturn | No return detection |
FNumber | 22.0 |
FocalLength | 35.0 mm |
FocalLength35efl | 35.0 mm (35 mm equivalent: 35.1 mm) |
Format | image/jpeg |
FOV | 54.3 deg |
GradientBasedCorrActive | true |
GradientBasedCorrAmount | 1.000000 |
GradientBasedCorrBrightness | 0.000000 |
GradientBasedCorrClarity | 0.000000 |
GradientBasedCorrContrast | 0.000000 |
GradientBasedCorrExposure (1) | -0.273973 |
GradientBasedCorrExposure | 0.164384 |
GradientBasedCorrHue | 0.000000 |
GradientBasedCorrMaskFullX (1) | 0.506781 |
GradientBasedCorrMaskFullX | 0.512794 |
GradientBasedCorrMaskFullY (1) | 0.026975 |
GradientBasedCorrMaskFullY | 0.966701 |
GradientBasedCorrMaskValue | 1.000000 |
GradientBasedCorrMaskWhat | Mask/Gradient |
GradientBasedCorrMaskZeroX (1) | 0.500168 |
GradientBasedCorrMaskZeroX | 0.521140 |
GradientBasedCorrMaskZeroY (1) | 0.402995 |
GradientBasedCorrMaskZeroY | 0.460469 |
GradientBasedCorrSaturation | 0.000000 |
GradientBasedCorrSharpness | 0.000000 |
GradientBasedCorrWhat | Correction |
GreenHue | 0 |
GreenSaturation | 0 |
HasCrop | True |
HasSettings | True |
HighlightRecovery | 59 |
HueAdjustmentAqua | 0 |
HueAdjustmentBlue | 0 |
HueAdjustmentGreen | 0 |
HueAdjustmentMagenta | 0 |
HueAdjustmentOrange | 0 |
HueAdjustmentPurple | 0 |
HueAdjustmentRed | 0 |
HueAdjustmentYellow | 0 |
HyperfocalDistance | 1.86 m |
ICCProfileName | sRGB IEC61966-2.1 |
ImageHeight (1) | 3000 |
ImageHeight (2) | 2834 |
ImageHeight | 900 |
ImageNumber | 2 |
ImageSize | 1200x900 |
ImageWidth (1) | 4000 |
ImageWidth (2) | 4317 |
ImageWidth | 1200 |
ISO | 100 |
Lens | EF35mm f/1.4L USM |
LensInfo | 35mm f/? |
LightValue | 8.9 |
LuminanceAdjustmentAqua | 0 |
LuminanceAdjustmentBlue | 0 |
LuminanceAdjustmentGreen | 0 |
LuminanceAdjustmentMagenta | 0 |
LuminanceAdjustmentOrange | 0 |
LuminanceAdjustmentPurple | 0 |
LuminanceAdjustmentRed | 0 |
LuminanceAdjustmentYellow | 0 |
LuminanceSmoothing | 0 |
Make | Canon |
MaxApertureValue | 1.4 |
Megapixels | 1.1 |
MeteringMode | Unknown |
Model | Canon EOS 5D |
ModifyDate (1) | 2010:10:25 21:02:45+02:00 |
ModifyDate | 2010:10:25 21:02:45 |
Orientation | Horizontal (normal) |
PaintCorrectionActive | true |
PaintCorrectionAmount | 1.000000 |
PaintCorrectionBrightness (1) | 0.465753 |
PaintCorrectionBrightness | 0.000000 |
PaintCorrectionClarity | 0.000000 |
PaintCorrectionContrast (1) | 0.000000 |
PaintCorrectionContrast | 0.547945 |
PaintCorrectionExposure | 0.000000 |
PaintCorrectionHue | 0.000000 |
PaintCorrectionMaskCenterWeight | 0.015538 |
PaintCorrectionMaskFlow | 0.300000 |
PaintCorrectionMaskRadius (1) | 0.130119 |
PaintCorrectionMaskRadius | 0.104542 |
PaintCorrectionMaskValue | 0.897260 |
PaintCorrectionMaskWhat | Mask/Paint |
PaintCorrectionSaturation | 0.000000 |
PaintCorrectionSharpness | 0.000000 |
PaintCorrectionWhat | Correction |
ParametricDarks | -10 |
ParametricHighlights | 0 |
ParametricHighlightSplit | 75 |
ParametricLights | +10 |
ParametricMidtoneSplit | 50 |
ParametricShadows | 0 |
ParametricShadowSplit | 25 |
PhotometricInterpretation | RGB |
PlanarConfiguration | Chunky |
PostCropVignetteAmount | 0 |
ProfileDescription | sRGB IEC61966-2.1 |
RedHue | 0 |
RedSaturation | 0 |
SamplesPerPixel | 3 |
Saturation | +26 |
SaturationAdjustmentAqua | 0 |
SaturationAdjustmentBlue | 0 |
SaturationAdjustmentGreen | 0 |
SaturationAdjustmentMagenta | 0 |
SaturationAdjustmentOrange | 0 |
SaturationAdjustmentPurple | 0 |
SaturationAdjustmentRed | 0 |
SaturationAdjustmentYellow | 0 |
ScaleFactor35efl | 1.0 |
SceneCaptureType | Standard |
SerialNumber | 1531004431 |
Shadows | 0 |
ShadowTint | 0 |
SharpenDetail | 68 |
SharpenEdgeMasking | 68 |
SharpenRadius | +0.8 |
Sharpness | 101 |
ShutterSpeed | 1 |
ShutterSpeedValue | 1 |
Software | Adobe Photoshop CS3 Macintosh |
SplitToningBalance | 0 |
SplitToningHighlightHue | 0 |
SplitToningHighlightSaturation | 0 |
SplitToningShadowHue | 0 |
SplitToningShadowSaturation | 0 |
Tint | +53 |
ToneCurve | 0, 0, 32, 22, 64, 56, 128, 128, 192, 196, 255, 255 |
ToneCurveName | Medium Contrast |
URL_List | |
Version | 5.2 |
Vibrance | +43 |
VignetteAmount | 0 |
WhiteBalance (2) | Custom |
WhiteBalance | Auto |