Felt | Verdi |
AlreadyApplied | True |
Aperture | 2.8 |
ApertureValue | 2.8 |
AutoLateralCA | 0 |
BitsPerSample | 8 |
Blacks2012 | -17 |
BlueHue | 0 |
BlueSaturation | 0 |
BrightnessValue | 6.835155556 |
CameraProfile | Apple Embedded Color Profile |
CircleOfConfusion | 0.004 mm |
Clarity2012 | 0 |
ColorComponents | 3 |
ColorGradeBlending | 50 |
ColorGradeGlobalHue | 0 |
ColorGradeGlobalLum | 0 |
ColorGradeGlobalSat | 0 |
ColorGradeHighlightLum | 0 |
ColorGradeMidtoneHue | 0 |
ColorGradeMidtoneLum | 0 |
ColorGradeMidtoneSat | 0 |
ColorGradeShadowLum | 0 |
ColorNoiseReduction | 35 |
ColorNoiseReductionDetail | 50 |
ColorNoiseReductionSmoothness | 50 |
ColorSpace | sRGB |
ColorTemperature | 5050 |
ColorTransform | YCbCr |
CompatibleVersion | 251854848 |
Contrast2012 | 0 |
CreateDate (1) | 2023:12:16 10:17:39.545+01:00 |
CreateDate (2) | 2023:12:16 10:17:39+01:00 |
CreateDate | 2023:12:16 10:17:39 |
CreatorTool | Fjorden 2.2.5 |
CropAngle | 0 |
CropBottom | 0.939133 |
CropConstrainToWarp | 0 |
CropLeft | 0 |
CropRight | 0.923896 |
CropTop | 0.048185 |
CurveRefineSaturation | 100 |
DateCreated (1) | 2023:12:16 10:17:39.545+01:00 |
DateCreated (2) | 2023:12:16 10:17:39+01:00 |
DateCreated | 2023:12:16 |
DateTimeOriginal | 2023:12:16 10:17:39 |
DefringeGreenAmount | 0 |
DefringeGreenHueHi | 60 |
DefringeGreenHueLo | 40 |
DefringePurpleAmount | 0 |
DefringePurpleHueHi | 70 |
DefringePurpleHueLo | 30 |
Dehaze | 0 |
ExifImageHeight | 2694 |
ExifImageWidth | 3725 |
Exposure2012 | +0.18 |
ExposureCompensation | 0 |
ExposureMode | Manual |
ExposureProgram | Manual |
ExposureTime | 1/850 |
Flash | Off, Did not fire |
FNumber | 2.8 |
FocalLength | 9.0 mm |
FocalLength35efl | 9.0 mm (35 mm equivalent: 77.0 mm) |
FocalLengthIn35mmFormat | 77 mm |
Format | image/jpeg |
FOV | 26.3 deg |
GPSAltitude (1) | 1 m |
GPSAltitude | 1 m Above Sea Level |
GPSAltitudeRef | Above Sea Level |
GPSDateStamp | 2023:12:16 |
GPSDateTime | 2023:12:16 10:17:37Z |
GPSDOP | 4.745647115 |
GPSLatitude (1) | 58 deg 48' 44.19" |
GPSLatitude | 58 deg 48' 44.19" N |
GPSLatitudeRef | North |
GPSLongitude (1) | 5 deg 32' 51.83" |
GPSLongitude | 5 deg 32' 51.83" E |
GPSLongitudeRef | East |
GPSPosition | 58 deg 48' 44.19" N, 5 deg 32' 51.83" E |
GPSTimeStamp | 10:17:37 |
GrainAmount | 0 |
GreenHue | 0 |
GreenSaturation | 0 |
HasCrop | True |
HasSettings | True |
HDREditMode | 0 |
Highlights2012 | -23 |
HueAdjustmentAqua | 0 |
HueAdjustmentBlue | 0 |
HueAdjustmentGreen | 0 |
HueAdjustmentMagenta | 0 |
HueAdjustmentOrange | 0 |
HueAdjustmentPurple | 0 |
HueAdjustmentRed | 0 |
HueAdjustmentYellow | 0 |
HyperfocalDistance | 8.24 m |
ImageHeight | 2694 |
ImageSize | 3725x2694 |
ImageWidth | 3725 |
ISO | 200 |
Lens | iPhone 15 Pro back camera 9mm f/2.8 |
LensInfo | 9mm f/2.8 |
LensMake | Apple |
LensManualDistortionAmount | 0 |
LensModel | iPhone 15 Pro back camera 9mm f/2.8 |
LensProfileEnable | 0 |
LightValue | 11.7 |
LookAmount | 1 |
LookCopyright | © 2021 Adobe Systems, Inc. |
LookGroup | Profiles |
LookName | Apple ProRaw |
LookParametersCameraProfile | Apple Embedded Color Profile |
LookParametersConvertToGrayscale | False |
LookParametersProcessVersion | 15.4 |
LookParametersProfileGainTableMap | 100 |
LookParametersVersion | 16.0 |
LookSupportsMonochrome | false |
LookSupportsOutputReferred | false |
LuminanceAdjustmentAqua | 0 |
LuminanceAdjustmentBlue | 0 |
LuminanceAdjustmentGreen | 0 |
LuminanceAdjustmentMagenta | 0 |
LuminanceAdjustmentOrange | 0 |
LuminanceAdjustmentPurple | 0 |
LuminanceAdjustmentRed | 0 |
LuminanceAdjustmentYellow | 0 |
LuminanceNoiseReductionContrast | 0 |
LuminanceNoiseReductionDetail | 50 |
LuminanceSmoothing | 8 |
Make | Apple |
Megapixels | 10.0 |
MeteringMode | Multi-segment |
Model | iPhone 15 Pro |
ModifyDate (1) | 2023:12:20 05:55:49+01:00 |
ModifyDate | 2023:12:20 05:55:49 |
OverrideLookVignette | False |
ParametricDarks | 0 |
ParametricHighlights | 0 |
ParametricHighlightSplit | 75 |
ParametricLights | 0 |
ParametricMidtoneSplit | 50 |
ParametricShadows | 0 |
ParametricShadowSplit | 25 |
PerspectiveAspect | 0 |
PerspectiveHorizontal | 0 |
PerspectiveRotate | 0.0 |
PerspectiveScale | 100 |
PerspectiveUpright | 0 |
PerspectiveVertical | 0 |
PerspectiveX | 0.00 |
PerspectiveY | 0.00 |
PostCropVignetteAmount | 0 |
ProcessVersion | 15.4 |
ProfileDescription | sRGB IEC61966-2.1 |
RangeMaskMapInfoRangeMaskMapInfoLabMax | 0.996201 0.506798 0.510170 |
RangeMaskMapInfoRangeMaskMapInfoLabMin | 0.000000 0.489219 0.443000 |
RangeMaskMapInfoRangeMaskMapInfoRGBMax | 0.749355 0.726223 0.668177 |
RangeMaskMapInfoRangeMaskMapInfoRGBMin | 0.008774 0.008560 0.008759 |
RedHue | 0 |
RedSaturation | 0 |
Saturation | 0 |
SaturationAdjustmentAqua | 0 |
SaturationAdjustmentBlue | 0 |
SaturationAdjustmentGreen | 0 |
SaturationAdjustmentMagenta | 0 |
SaturationAdjustmentOrange | 0 |
SaturationAdjustmentPurple | 0 |
SaturationAdjustmentRed | 0 |
SaturationAdjustmentYellow | 0 |
ScaleFactor35efl | 8.6 |
SceneCaptureType | Standard |
SceneType | Directly photographed |
SensingMethod | One-chip color area |
Shadows2012 | +21 |
ShadowTint | 0 |
SharpenDetail | 25 |
SharpenEdgeMasking | 50 |
SharpenRadius | +1.4 |
Sharpness | 73 |
ShutterSpeed | 1/850 |
ShutterSpeedValue | 1/850 |
Software | Fjorden 2.2.5 |
SplitToningBalance | 0 |
SplitToningHighlightHue | 0 |
SplitToningHighlightSaturation | 0 |
SplitToningShadowHue | 0 |
SplitToningShadowSaturation | 0 |
SubjectArea | 2013 1511 2116 1330 |
Texture | 0 |
Tint | 0 |
ToneCurveName2012 | Custom |
ToneCurvePV2012 | 0, 0, 97, 85, 219, 234, 255, 255 |
ToneCurvePV2012Blue | 0, 0, 255, 255 |
ToneCurvePV2012Green | 0, 0, 255, 255 |
ToneCurvePV2012Red | 0, 0, 255, 255 |
Version | 16.0 |
Vibrance | 0 |
VignetteAmount | 0 |
WhiteBalance (1) | As Shot |
WhiteBalance | Auto |
Whites2012 | +12 |