Felt | Verdi |
AELock | Off |
AFAreas | (113,107)-(142,145) |
AFFineTune | Off |
AFFineTuneAdj | 0 0 0 |
AFPoint | Left (or n/a) |
AFPointSelected | (49%,49%) (49%,49%) |
AFSearch | Ready |
AlreadyApplied | True |
Aperture | 2.8 |
ApertureValue | 2.8 |
ApproximateFocusDistance | 7.08 |
ArtFilter | Off; 0; 0; 0 |
ArtFilterEffect | Off; 0; 0; Partial Color 0; No Effect; 0; No Color Filter; 0; 0; 0; 0; 0; 0; 0; 0; 0; 0; 0; 0; 0 |
Artist | Torstein Hall_ |
AspectFrame | 0 0 4607 3455 |
AspectRatio | 4:3 |
AutoLateralCA | 0 |
AutoWhiteVersion | 134348800 |
BitsPerSample | 8 |
BlackLevel2 | 251 253 253 251 |
Blacks2012 | 0 |
BlueBalance | 1.507813 |
BlueHue | 0 |
BlueSaturation | 0 |
BodyFirmwareVersion | 2.000 |
CameraID | OLYMPUS DIGITAL CAMERA |
CameraProfile | Adobe Standard |
CameraSettingsVersion | 0100 |
CameraType2 | E-M5 |
CFAPattern | [Red,Green][Green,Blue] |
CircleOfConfusion | 0.015 mm |
Clarity2012 | 0 |
ColorComponents | 3 |
ColorMatrix | 398 -116 -26 -56 360 -48 8 -108 356 |
ColorNoiseReduction | 25 |
ColorNoiseReductionDetail | 50 |
ColorNoiseReductionSmoothness | 50 |
ColorSpace | sRGB |
ColorTemperature | 5810 |
Contrast | Normal |
Contrast2012 | +25 |
ContrastSetting | 0 (min -5, max 5) |
ConversionLens | |
ConvertToGrayscale | False |
Copyright | |
CreateDate | 2014:12:22 16:16:18 |
Creator | Torstein Hall |
CreatorCountry | Norge |
CreatorPostalCode | 1395 |
CreatorTool | Version 2.0 |
CreatorWorkEmail | tohall@online.no |
CreatorWorkTelephone | +47 94873470 |
CreatorWorkURL | www.ohb.no |
CropAngle | 0 |
CropBottom | 0.791128 |
CropConstrainToWarp | 0 |
CropHeight | 3456 |
CropLeft (1) | 8 0 |
CropLeft | 0 |
CropRight | 1 |
CropTop (1) | 8 0 |
CropTop | 0.066194 |
CropWidth | 4608 |
CustomRendered | Normal |
CustomSaturation | 0 (min -5, max 5) |
DateCreated | 2014:12:22 16:16:18 |
DateTimeOriginal | 2014:12:22 16:16:18 |
DefringeGreenAmount | 0 |
DefringeGreenHueHi | 60 |
DefringeGreenHueLo | 40 |
DefringePurpleAmount | 0 |
DefringePurpleHueHi | 70 |
DefringePurpleHueLo | 30 |
Dehaze | 0 |
Description | |
DigitalZoomRatio | 1 |
DistortionCorrection | Off |
DistortionCorrection2 | Off |
DOF | inf (2.81 m - inf) |
DriveMode | Continuous Shooting, Shot 1 |
EquipmentVersion | 0100 |
ExifImageHeight (1) | 3456 |
ExifImageHeight | 1207 |
ExifImageWidth (1) | 4608 |
ExifImageWidth | 1940 |
Exposure2012 | +0.95 |
ExposureCompensation | 0 |
ExposureMode (1) | Aperture-priority AE |
ExposureMode | Auto |
ExposureProgram | Aperture-priority AE |
ExposureShift | 0.16 |
ExposureTime | 1/13 |
ExtendedWBDetect | Off |
Extender | None |
ExtenderFirmwareVersion | 0 |
ExtenderModel | |
ExtenderSerialNumber | |
ExtenderStatus | Not attached |
ExternalFlash | Off |
ExternalFlashBounce | Bounce or Off |
ExternalFlashZoom | 0 |
FaceDetectFrameCrop | 0 0 640 480 0 0 640 480 0 0 0 0 |
FaceDetectFrameSize | 640 480 640 480 0 0 |
FacesDetected | 0 0 0 |
Flash | On, Did not fire |
FlashCompensation | -0.33203125 |
FlashControlMode | Off; 0; 0; 0 |
FlashExposureComp | -0.33203125 |
FlashFired | False |
FlashFirmwareVersion | 0 |
FlashFunction | False |
FlashIntensity | n/a (x4) |
FlashMode (1) | On |
FlashMode | Fill-in |
FlashModel | None |
FlashRedEyeMode | False |
FlashRemoteControl | Off |
FlashReturn | No return detection |
FlashSerialNumber | |
FlashType | None |
FNumber | 2.8 |
FocalLength | 14.0 mm |
FocalLength35efl | 14.0 mm (35 mm equivalent: 28.0 mm) |
FocalLengthIn35mmFormat | 28 mm |
FocusDistance | 7.08 m |
FocusInfoVersion | 0100 |
FocusMode | Single AF; S-AF, Imager AF |
FocusProcess | AF Used; 64 |
FocusStepCount | 118 |
FocusStepInfinity | 0 |
FocusStepNear | 0 |
Format | image/x-olympus-raw |
FOV | 65.4 deg (9.08 m) |
GainBase | 256 |
GainControl | High gain up |
Gradation | Normal; Auto-Override |
GradientBasedCorrActive | true |
GradientBasedCorrAmount | 1.000000 |
GradientBasedCorrBrightness | 0.000000 |
GradientBasedCorrClarity | 0.000000 |
GradientBasedCorrClarity2012 | 0.000000 |
GradientBasedCorrContrast | 0.000000 |
GradientBasedCorrContrast2012 | 0.000000 |
GradientBasedCorrDefringe | 0.000000 |
GradientBasedCorrExposure | 0.000000 |
GradientBasedCorrExposure2012 | 0.000000 |
GradientBasedCorrHighlights2012 | 0.000000 |
GradientBasedCorrHue | 233.000000 |
GradientBasedCorrLuminanceNoise | 0.261900 |
GradientBasedCorrMaskFullX | 0.540101 |
GradientBasedCorrMaskFullY | 0.011824 |
GradientBasedCorrMaskValue | 1.000000 |
GradientBasedCorrMaskWhat | Mask/Gradient |
GradientBasedCorrMaskZeroX | 0.539525 |
GradientBasedCorrMaskZeroY | 0.688776 |
GradientBasedCorrMoire | 0.000000 |
GradientBasedCorrSaturation (1) | 0.476190 |
GradientBasedCorrSaturation | 0.000000 |
GradientBasedCorrShadows2012 | 0.000000 |
GradientBasedCorrSharpness | 0.000000 |
GradientBasedCorrTemperature | 0.000000 |
GradientBasedCorrTint | 0.000000 |
GradientBasedCorrWhat | Correction |
GrainAmount | 0 |
GreenHue | 0 |
GreenSaturation | 0 |
HasCrop | True |
HasSettings | True |
Highlights2012 | +10 |
HueAdjustmentAqua | 0 |
HueAdjustmentBlue | 0 |
HueAdjustmentGreen | 0 |
HueAdjustmentMagenta | 0 |
HueAdjustmentOrange | 0 |
HueAdjustmentPurple | 0 |
HueAdjustmentRed | 0 |
HueAdjustmentYellow | 0 |
HyperfocalDistance | 4.66 m |
ImageDescription | OLYMPUS DIGITAL CAMERA |
ImageHeight (1) | 3456 |
ImageHeight | 1207 |
ImageProcessingVersion | 0112 |
ImageSize | 1940x1207 |
ImageStabilization | On, Mode 1 |
ImageWidth (1) | 4608 |
ImageWidth | 1940 |
InternalFlash | Off |
InternalSerialNumber | 4138207028299001 |
ISO | 1600 |
Lens | LUMIX G 14/F2.5 |
LensFirmwareVersion | 1.110 |
LensID | Lumix G 14mm F2.5 Asph. |
LensInfo | 14mm f/2.5 |
LensManualDistortionAmount | 0 |
LensModel | LUMIX G 14/F2.5 |
LensProfileEnable | 0 |
LensProfileSetup | LensDefaults |
LensProperties | 0x4100 |
LensSerialNumber | 01JG6171568R |
LensType | Lumix G 14mm F2.5 Asph. |
LightSource | Unknown |
LightValue | 2.7 |
LuminanceAdjustmentAqua | 0 |
LuminanceAdjustmentBlue | 0 |
LuminanceAdjustmentGreen | 0 |
LuminanceAdjustmentMagenta | 0 |
LuminanceAdjustmentOrange | 0 |
LuminanceAdjustmentPurple | 0 |
LuminanceAdjustmentRed | 0 |
LuminanceAdjustmentYellow | 0 |
LuminanceNoiseReductionContrast | 0 |
LuminanceNoiseReductionDetail | 50 |
LuminanceSmoothing | 31 |
MacroLED | Off |
MacroMode | Off |
Make | OLYMPUS IMAGING CORP. |
ManometerPressure | 0 kPa |
ManometerReading | 0 m, 0 ft |
ManualFlash | Off |
ManualFlashStrength | n/a (x4) |
Marked | True |
MaxAperture | 2.6 |
MaxApertureAtMaxFocal | 2.5 |
MaxApertureAtMinFocal | 2.5 |
MaxApertureValue | 2.5 |
MaxFaces | 8 8 0 |
MaxFocalLength | 14 |
Megapixels | 2.3 |
MeteringMode (2) | Multi-segment |
MeteringMode | ESP |
MinFocalLength | 14 |
Model | E-M5 |
ModifiedSaturation | Off |
ModifyDate | 2014:12:22 16:16:18 |
MultipleExposureMode | Off; 1 |
NoiseFilter | Low |
NoiseReduction | (none) |
NoiseReduction2 | (none) |
Orientation | Horizontal (normal) |
PaintCorrectionActive | true |
PaintCorrectionAmount | 1.000000 |
PaintCorrectionBrightness | 0.000000 |
PaintCorrectionClarity | 0.000000 |
PaintCorrectionClarity2012 | 0.404760 |
PaintCorrectionContrast | 0.000000 |
PaintCorrectionContrast2012 | 0.000000 |
PaintCorrectionDefringe | 0.000000 |
PaintCorrectionExposure | 0.000000 |
PaintCorrectionExposure2012 | 0.262000 |
PaintCorrectionHighlights2012 | 0.000000 |
PaintCorrectionHue | 233.000000 |
PaintCorrectionLuminanceNoise | 0.000000 |
PaintCorrectionMaskCenterWeight | 0.234304 |
PaintCorrectionMaskFlow | 1.000000 |
PaintCorrectionMaskRadius | 0.020213 |
PaintCorrectionMaskValue | 1.000000 |
PaintCorrectionMaskWhat | Mask/Paint |
PaintCorrectionMoire | 0.000000 |
PaintCorrectionSaturation | 0.000000 |
PaintCorrectionShadows2012 | 0.000000 |
PaintCorrectionSharpness | 0.000000 |
PaintCorrectionTemperature | 0.000000 |
PaintCorrectionTint | 0.000000 |
PaintCorrectionWhat | Correction |
PanoramaMode | Off |
ParametricDarks | 0 |
ParametricHighlights | 0 |
ParametricHighlightSplit | 75 |
ParametricLights | 0 |
ParametricMidtoneSplit | 50 |
ParametricShadows | 0 |
ParametricShadowSplit | 25 |
PerspectiveAspect | 0 |
PerspectiveHorizontal | 0 |
PerspectiveRotate | 0.0 |
PerspectiveScale | 100 |
PerspectiveUpright | 1 |
PerspectiveVertical | 0 |
PerspectiveX | 0.00 |
PerspectiveY | 0.00 |
PictureMode | Natural; 2 |
PictureModeBWFilter | n/a |
PictureModeContrast | 0 (min -2, max 2) |
PictureModeEffect | Standard |
PictureModeSaturation | 0 (min -2, max 2) |
PictureModeSharpness | 0 (min -2, max 2) |
PictureModeTone | n/a |
PostCropVignetteAmount | 0 |
PrintIMVersion | 0300 |
ProcessVersion | 6.7 |
Rating | 3 |
RatingPercent | 50 |
RawDevColorSpace | sRGB |
RawDevContrastValue | 0 0 0 |
RawDevEditStatus | Original |
RawDevEngine | High Speed |
RawDevExposureBiasValue | 0 |
RawDevGrayPoint | 0 0 0 |
RawDevMemoryColorEmphasis | 0 |
RawDevNoiseReduction | (none) |
RawDevSaturationEmphasis | 0 0 0 |
RawDevSettings | (none) |
RawDevSharpnessValue | 0 0 0 |
RawDevVersion | 0100 |
RawDevWBFineAdjustment | 0 |
RawDevWhiteBalanceValue | 0 |
RawFileName | PC220185.ORF |
RedBalance | 2.164063 |
RedHue | 0 |
RedSaturation | 0 |
Rights | |
Saturation (2) | +12 |
Saturation | Normal |
SaturationAdjustmentAqua | 0 |
SaturationAdjustmentBlue | 0 |
SaturationAdjustmentGreen | 0 |
SaturationAdjustmentMagenta | 0 |
SaturationAdjustmentOrange | 0 |
SaturationAdjustmentPurple | 0 |
SaturationAdjustmentRed | 0 |
SaturationAdjustmentYellow | 0 |
ScaleFactor35efl | 2.0 |
SceneCaptureType | Standard |
SceneDetect | 0 |
SceneMode | Standard |
SensitivityType (1) | 1 |
SensitivityType | Standard Output Sensitivity |
SensorCalibration | 4094 256 |
SensorTemperature | 19 C |
SerialNumber | BEK514187 |
ShadingCompensation | Off |
ShadingCompensation2 | Off |
Shadows2012 | +17 |
ShadowTint | 0 |
SharpenDetail | 25 |
SharpenEdgeMasking | 44 |
SharpenRadius | +1.0 |
Sharpness (2) | 34 |
Sharpness | Normal |
SharpnessSetting | 0 (min -5, max 5) |
ShutterSpeed | 1/13 |
ShutterSpeedValue | 1/13 |
SidecarForExtension | ORF |
Software | DxO PhotoLab 4.0.2 |
SpecialMode | Fast, Sequence: 1, Panorama: (none) |
SplitToningBalance | 0 |
SplitToningHighlightHue | 0 |
SplitToningHighlightSaturation | 0 |
SplitToningShadowHue | 0 |
SplitToningShadowSaturation | 0 |
SubjectDistance | 7.08 m |
Tint | -11 |
ToneCurve | 0, 0, 32, 22, 64, 56, 128, 128, 192, 196, 255, 255 |
ToneCurveBlue | 0, 0, 255, 255 |
ToneCurveGreen | 0, 0, 255, 255 |
ToneCurveName | Medium Contrast |
ToneCurveName2012 | Linear |
ToneCurvePV2012 | 0, 0, 255, 255 |
ToneCurvePV2012Blue | 0, 0, 255, 255 |
ToneCurvePV2012Green | 0, 0, 255, 255 |
ToneCurvePV2012Red | 0, 0, 255, 255 |
ToneCurveRed | 0, 0, 255, 255 |
ToneLevel | Highlights; 0; -7; 7; Shadows; 0; -7; 7; 0; 0; 0; 0 |
ToneMapStrength | 0 |
UsageTerms | Contact me at: tohall@online.no for price |
UserComment | |
ValidBits | 12 0 |
Version | 9.12 |
Vibrance | +10 |
VignetteAmount | 0 |
WB_RBLevels | 554 386 256 256 |
WB_RBLevels3000K | 312 808 256 256 |
WB_RBLevels3300K | 372 636 256 256 |
WB_RBLevels3600K | 396 584 256 256 |
WB_RBLevels3900K | 418 544 256 256 |
WB_RBLevels4000K | 492 644 256 256 |
WB_RBLevels4300K | 448 526 256 256 |
WB_RBLevels4500K | 474 534 256 256 |
WB_RBLevels4800K | 478 484 256 256 |
WB_RBLevels5300K | 504 450 256 256 |
WB_RBLevels6000K | 550 406 256 256 |
WB_RBLevels6600K | 568 432 256 256 |
WB_RBLevels7500K | 600 354 256 256 |
WB_RBLevelsCWB1 | 210 970 256 256 |
WB_RBLevelsCWB2 | 252 1046 256 256 |
WB_RBLevelsCWB3 | 380 380 256 256 |
WB_RBLevelsCWB4 | 380 380 256 256 |
WhiteBalance (2) | Custom |
WhiteBalance | Auto |
WhiteBalance2 | Auto (Keep Warm Color Off) |
WhiteBalanceBracket | 0 0 |
WhiteBalanceTemperature | Auto |
Whites2012 | -10 |
ZoomStepCount | 0 |