Felt | Verdi |
AlreadyApplied | True |
AutoLateralCA | 0 |
BitsPerSample | 8 |
Blacks2012 | +5 |
BlueHue | 0 |
BlueSaturation | 0 |
CameraProfile | Embedded |
Clarity2012 | 0 |
ColorComponents | 3 |
ColorNoiseReduction | 0 |
ColorSpace | Uncalibrated |
ColorTransform | YCbCr |
Contrast2012 | 0 |
ConvertToGrayscale | False |
CreateDate | 2018:09:27 14:38:02 |
CreatorTool | Adobe Photoshop Lightroom Classic 9.3 (Windows) |
DateCreated (1) | 2018:09:27 |
DateCreated | 2018:09:27 14:38:02 |
DateTimeOriginal | 2018:09:27 14:38:02 |
DefringeGreenAmount | 0 |
DefringeGreenHueHi | 60 |
DefringeGreenHueLo | 40 |
DefringePurpleAmount | 0 |
DefringePurpleHueHi | 70 |
DefringePurpleHueLo | 30 |
Dehaze | +10 |
Exposure2012 | 0.00 |
Format | image/jpeg |
GradientBasedCorrActive | true |
GradientBasedCorrAmount | 1.000000 |
GradientBasedCorrBrightness | 0.000000 |
GradientBasedCorrClarity2012 | 0.000000 |
GradientBasedCorrContrast2012 | 0.236640 |
GradientBasedCorrCorrectionRangeMaskColorAmount | 0.500000 |
GradientBasedCorrCorrectionRangeMaskDepthFeather | 0.500000 |
GradientBasedCorrCorrectionRangeMaskDepthMax | 1.000000 |
GradientBasedCorrCorrectionRangeMaskDepthMin | 0.000000 |
GradientBasedCorrCorrectionRangeMaskLumFeather | 0.500000 |
GradientBasedCorrCorrectionRangeMaskLumMax | 1.000000 |
GradientBasedCorrCorrectionRangeMaskLumMin | 0.000000 |
GradientBasedCorrCorrectionRangeMaskType | 0 |
GradientBasedCorrCorrectionRangeMaskVersion | +2 |
GradientBasedCorrDefringe | 0.000000 |
GradientBasedCorrExposure2012 | -0.100000 |
GradientBasedCorrHighlights2012 | -0.801530 |
GradientBasedCorrHue | 240.000000 |
GradientBasedCorrLocalBlacks2012 | 0.000000 |
GradientBasedCorrLocalDehaze | 0.000000 |
GradientBasedCorrLocalHue | 0.000000 |
GradientBasedCorrLocalTexture | 0.190840 |
GradientBasedCorrLocalWhites2012 | 0.000000 |
GradientBasedCorrLuminanceNoise | 0.000000 |
GradientBasedCorrMaskFullX | 0.473025 |
GradientBasedCorrMaskFullY | 0.018786 |
GradientBasedCorrMaskValue | 1.000000 |
GradientBasedCorrMaskWhat | Mask/Gradient |
GradientBasedCorrMaskZeroX | 0.462428 |
GradientBasedCorrMaskZeroY | 0.776011 |
GradientBasedCorrMoire | 0.000000 |
GradientBasedCorrSaturation | 0.000000 |
GradientBasedCorrShadows2012 | 0.541980 |
GradientBasedCorrSharpness | 0.000000 |
GradientBasedCorrTemperature | -0.010000 |
GradientBasedCorrTint | 0.000000 |
GradientBasedCorrWhat | Correction |
GrainAmount | 0 |
GreenHue | 0 |
GreenSaturation | 0 |
HasCrop | False |
HasSettings | True |
Highlights2012 | -100 |
HueAdjustmentAqua | 0 |
HueAdjustmentBlue | 0 |
HueAdjustmentGreen | 0 |
HueAdjustmentMagenta | 0 |
HueAdjustmentOrange | 0 |
HueAdjustmentPurple | 0 |
HueAdjustmentRed | 0 |
HueAdjustmentYellow | 0 |
ImageHeight | 4000 |
ImageSize | 6000x4000 |
ImageWidth | 6000 |
IncrementalTemperature | +15 |
IncrementalTint | +5 |
LensManualDistortionAmount | 0 |
LensProfileEnable | 0 |
LensProfileSetup | LensDefaults |
LookAmount | 1.000000 |
LookCluster | Adobe |
LookGroup | Modern |
LookName | Modern 04 |
LookParametersClarity2012 | +5 |
LookParametersContrast2012 | +15 |
LookParametersConvertToGrayscale | False |
LookParametersExposure2012 | +0.20 |
LookParametersLookTable | E1095149FDB39D7A057BAB208837E2E1 |
LookParametersParametricDarks | -9 |
LookParametersParametricHighlights | 0 |
LookParametersParametricHighlightSplit | 75 |
LookParametersParametricLights | 0 |
LookParametersParametricMidtoneSplit | 50 |
LookParametersParametricShadows | 0 |
LookParametersParametricShadowSplit | 25 |
LookParametersProcessVersion | 11.0 |
LookParametersSaturationAdjustmentOrange | -10 |
LookParametersShadows2012 | +21 |
LookParametersSplitToningBalance | 0 |
LookParametersSplitToningHighlightHue | 0 |
LookParametersSplitToningHighlightSaturation | 0 |
LookParametersSplitToningShadowHue | 215 |
LookParametersSplitToningShadowSaturation | 10 |
LookParametersVersion | 12.3 |
LookSupportsMonochrome | false |
LuminanceAdjustmentAqua | 0 |
LuminanceAdjustmentBlue | 0 |
LuminanceAdjustmentGreen | 0 |
LuminanceAdjustmentMagenta | 0 |
LuminanceAdjustmentOrange | 0 |
LuminanceAdjustmentPurple | 0 |
LuminanceAdjustmentRed | 0 |
LuminanceAdjustmentYellow | 0 |
LuminanceSmoothing | 0 |
Megapixels | 24.0 |
ModifyDate (1) | 2020:09:15 18:33:11+02:00 |
ModifyDate | 2020:09:15 18:33:11 |
OverrideLookVignette | False |
ParametricDarks | 0 |
ParametricHighlights | 0 |
ParametricHighlightSplit | 75 |
ParametricLights | 0 |
ParametricMidtoneSplit | 50 |
ParametricShadows | 0 |
ParametricShadowSplit | 25 |
PerspectiveAspect | 0 |
PerspectiveHorizontal | 0 |
PerspectiveRotate | 0.0 |
PerspectiveScale | 100 |
PerspectiveUpright | 0 |
PerspectiveVertical | 0 |
PerspectiveX | 0.00 |
PerspectiveY | 0.00 |
PostCropVignetteAmount | 0 |
PreservedFileName | forfjordelva 2 (1 of 1)PSred.jpg |
ProcessVersion | 11.0 |
ProfileDescription | Adobe RGB (1998) |
RawFileName | |
RedHue | 0 |
RedSaturation | 0 |
Saturation | 0 |
SaturationAdjustmentAqua | 0 |
SaturationAdjustmentBlue | 0 |
SaturationAdjustmentGreen | 0 |
SaturationAdjustmentMagenta | 0 |
SaturationAdjustmentOrange | 0 |
SaturationAdjustmentPurple | 0 |
SaturationAdjustmentRed | 0 |
SaturationAdjustmentYellow | 0 |
Shadows2012 | +53 |
ShadowTint | 0 |
SharpenDetail | 25 |
SharpenEdgeMasking | 0 |
SharpenRadius | +1.0 |
Sharpness | 0 |
Software | Adobe Photoshop Lightroom Classic 9.3 (Windows) |
SplitToningBalance | 0 |
SplitToningHighlightHue | 0 |
SplitToningHighlightSaturation | 0 |
SplitToningShadowHue | 0 |
SplitToningShadowSaturation | 0 |
Texture | +2 |
ToneCurve | 0, 0, 255, 255 |
ToneCurveBlue | 0, 0, 255, 255 |
ToneCurveGreen | 0, 0, 255, 255 |
ToneCurveName | Linear |
ToneCurveName2012 | Linear |
ToneCurvePV2012 | 0, 0, 255, 255 |
ToneCurvePV2012Blue | 0, 0, 255, 255 |
ToneCurvePV2012Green | 0, 0, 255, 255 |
ToneCurvePV2012Red | 0, 0, 255, 255 |
ToneCurveRed | 0, 0, 255, 255 |
ToneMapStrength | 0 |
Version | 12.3 |
Vibrance | 0 |
VignetteAmount | 0 |
WhiteBalance | Custom |
Whites2012 | +14 |