Felt | Verdi |
# Color Adjust Levels
# Crop
# Graduated Filter
# LayerMergeVisible
# MultiObjectProperties
# PrepareForTool
# Selection
# SelectNone
# Vector Selection Update
'Antialias': False,
'AutoFit': False
'BackTransParent': False
'Blend': 100,
'BlendMode': App.Constants.BlendMode.Burn,
'BlendMode': App.Constants.BlendMode.Darken,
'BlendMode': App.Constants.BlendMode.Difference,
'BlendMode': App.Constants.BlendMode.Dissolve,
'BlendMode': App.Constants.BlendMode.Dodge,
'BlendMode': App.Constants.BlendMode.HardLight,
'BlendMode': App.Constants.BlendMode.LegacyColor,
'BlendMode': App.Constants.BlendMode.LegacyHue,
'BlendMode': App.Constants.BlendMode.LegacyLuminance,
'BlendMode': App.Constants.BlendMode.Lighten,
'BlendMode': App.Constants.BlendMode.Multiply,
'BlendMode': App.Constants.BlendMode.Normal,
'BlendMode': App.Constants.BlendMode.Overlay,
'BlendMode': App.Constants.BlendMode.Screen,
'BlendMode': App.Constants.BlendMode.SoftLight,
'BlendMode': App.Constants.BlendMode.TrueColor,
'BlendMode': App.Constants.BlendMode.TrueSaturation,
'Blue': (0,255,1,0,255),
'Clipping': 0
'CreateFromDropData': False,
'CropAsNewImage': False,
'CropRect': ((2,178), 1913, 1262),
'Effects': None,
'End': (123,1271),
'End': (1909,1263),
'Feather': 3,
'General':
'Green': (0,255,1,0,255),
'GroupLink': None,
'InsertPos': -1
'InvertDirection': False,
'IsTransparencyLocked': None,
'IsVisible': None,
'Levels':
'LinkSet': None,
'Mode': App.Constants.CropMode.Custom,
'Mode': App.Constants.SelectionOperation.Add,
'Name': None,
'Opacity': 48,
'Opacity': 57,
'Opacity': None,
'PaletteHighlightColor': None,
'Path': (0,-1,[],False),
'Path': None
'PrintHeight': -1,
'PrintWidth': -1,
'Red': (0,255,1,0,255),
'RGB': (0,235,1,0,255),
'Rotate': 89.4,
'RotationAngle': -0,
'Select': 0,
'SelectBack': (255,255,255),
'SelectedArea': False,
'SelectFore': (0,0,0),
'SelectFore': (0,71,0),
'Selection': [(0.497648,0.000792393),(0.499216,0.268621)],
'Selection': [(0.497648,0.000792393),(0.500261,0.393819)],
'SelectionFixedRatio': (1,1)
'SelectionFixedSize': (128,128),
'SelectionMode': 6,
'SelectionShape': App.Constants.SelectionShape.Rectangle,
'SelectionStyle': App.Constants.SelectionStyle.Normal,
'SelectionType': 1,
'Start': (-14,334),
'Start': (11,334),
'Tool': u'Selection'
'Type': App.Constants.ObjectSelection.AddToSelection
'Units': App.Constants.CropUnits.Inches,
'UseHighlight': None,
'VerticalShift': 0,
'WorkingMode': 1,
25.05.2020 22.44.06 # File '_5250180_experi.jpg' saved.
AlreadyApplied | True |
Aperture | 13.0 |
ApertureValue | 13.0 |
Artist | Torstein Hall |
AutoLateralCA | 0 |
AutoWhiteVersion | 134348800 |
BitsPerSample | 8 |
Blacks2012 | +31 |
BlueHue | 0 |
BlueSaturation | 0 |
By-line | Torstein Hall |
CameraProfile | Embedded |
Caption-Abstract | OLYMPUS DIGITAL CAMERA |
CFAPattern | [Red,Green][Green,Blue] |
CFAPatternColumns | 2 |
CFAPatternRows | 2 |
CFAPatternValues | 0, 1, 1, 2 |
CircGradBasedCorrActive | true |
CircGradBasedCorrAmount | 1.000000 |
CircGradBasedCorrBrightness | 0.000000 |
CircGradBasedCorrClarity2012 | 0.000000 |
CircGradBasedCorrContrast2012 | 0.000000 |
CircGradBasedCorrDefringe | 0.000000 |
CircGradBasedCorrExposure2012 | -0.166750 |
CircGradBasedCorrHighlights2012 | 0.000000 |
CircGradBasedCorrHue | 240.000000 |
CircGradBasedCorrLocalBlacks2012 | 0.000000 |
CircGradBasedCorrLocalDehaze | 0.000000 |
CircGradBasedCorrLocalWhites2012 | 0.000000 |
CircGradBasedCorrLuminanceNoise | 0.000000 |
CircGradBasedCorrMaskAngle | 0.000000 |
CircGradBasedCorrMaskBottom | 0.995980 |
CircGradBasedCorrMaskFeather | +50 |
CircGradBasedCorrMaskFlipped | false |
CircGradBasedCorrMaskLeft | -0.010610 |
CircGradBasedCorrMaskMidpoint | +50 |
CircGradBasedCorrMaskRight | 0.993367 |
CircGradBasedCorrMaskRoundness | 0 |
CircGradBasedCorrMaskTop | 0.003015 |
CircGradBasedCorrMaskValue | 1.000000 |
CircGradBasedCorrMaskVersion | +2 |
CircGradBasedCorrMaskWhat | Mask/CircularGradient |
CircGradBasedCorrMoire | 0.000000 |
CircGradBasedCorrSaturation | 0.000000 |
CircGradBasedCorrShadows2012 | 0.000000 |
CircGradBasedCorrSharpness | 0.190480 |
CircGradBasedCorrTemperature | 0.000000 |
CircGradBasedCorrTint | 0.000000 |
CircGradBasedCorrWhat | Correction |
Clarity2012 | 0 |
ColorComponents | 3 |
ColorNoiseReduction | 0 |
ColorSpace (1) | Uncalibrated |
ColorSpace | sRGB |
ColorTransform | YCbCr |
Contrast | Normal |
Contrast2012 | 0 |
ConvertToGrayscale | False |
Copyright | hall.torstein@gmail.com |
CopyrightNotice | hall.torstein@gmail.com |
CreateDate (1) | 2020:05:25 21:12:16+02:00 |
CreateDate | 2020:05:25 21:12:16 |
Creator | Torstein Hall |
CreatorTool | Adobe Photoshop Lightroom 6.12 (Windows) |
CropAngle | 0 |
CropBottom | 1 |
CropConstrainToWarp | 0 |
CropLeft | 0 |
CropRight | 1 |
CropTop | 0.064322 |
CustomRendered | Normal |
DateCreated (1) | 2020:05:25 |
DateCreated | 2020:05:25 21:12:16+02:00 |
DateTimeOriginal | 2020:05:25 21:12:16 |
DefringeGreenAmount | 0 |
DefringeGreenHueHi | 60 |
DefringeGreenHueLo | 40 |
DefringePurpleAmount | 0 |
DefringePurpleHueHi | 70 |
DefringePurpleHueLo | 30 |
Dehaze | 0 |
Description | OLYMPUS DIGITAL CAMERA |
DigitalZoomRatio | 1 |
Exposure2012 | -0.48 |
ExposureCompensation | 0 |
ExposureMode | Auto |
ExposureProgram | Aperture-priority AE |
ExposureTime | 0.6 |
Flash | On, Did not fire |
FNumber | 13.0 |
FocalLength | 12.0 mm |
FocalLength35efl | 12.0 mm |
Format | image/jpeg |
GainControl | None |
GradientBasedCorrActive | true |
GradientBasedCorrAmount | 1.000000 |
GradientBasedCorrBrightness | 0.000000 |
GradientBasedCorrClarity2012 | 0.000000 |
GradientBasedCorrContrast2012 | 0.000000 |
GradientBasedCorrDefringe | 0.000000 |
GradientBasedCorrExposure2012 | 0.095250 |
GradientBasedCorrHighlights2012 | 0.000000 |
GradientBasedCorrHue | 240.000000 |
GradientBasedCorrLocalBlacks2012 | 0.000000 |
GradientBasedCorrLocalDehaze | 0.000000 |
GradientBasedCorrLocalWhites2012 | 0.000000 |
GradientBasedCorrLuminanceNoise | 0.000000 |
GradientBasedCorrMaskFullX | 0.540923 |
GradientBasedCorrMaskFullY | 0.054930 |
GradientBasedCorrMaskValue | 1.000000 |
GradientBasedCorrMaskWhat | Mask/Gradient |
GradientBasedCorrMaskZeroX | 0.538927 |
GradientBasedCorrMaskZeroY | 0.296213 |
GradientBasedCorrMoire | 0.000000 |
GradientBasedCorrSaturation | 0.000000 |
GradientBasedCorrShadows2012 | 0.000000 |
GradientBasedCorrSharpness | 0.190480 |
GradientBasedCorrTemperature | -0.452380 |
GradientBasedCorrTint | 0.000000 |
GradientBasedCorrWhat | Correction |
GrainAmount | 0 |
GreenHue | 0 |
GreenSaturation | 0 |
HasCrop | True |
HasSettings | True |
Highlights2012 | +5 |
HueAdjustmentAqua | 0 |
HueAdjustmentBlue | 0 |
HueAdjustmentGreen | 0 |
HueAdjustmentMagenta | 0 |
HueAdjustmentOrange | 0 |
HueAdjustmentPurple | 0 |
HueAdjustmentRed | 0 |
HueAdjustmentYellow | 0 |
ImageDescription | OLYMPUS DIGITAL CAMERA |
ImageHeight | 1181 |
ImageSize | 1913x1181 |
ImageWidth | 1913 |
IncrementalTemperature | 0 |
IncrementalTint | 0 |
ISO | 200 |
Lens | OLYMPUS M.12-40mm F2.8 |
LensInfo | 12-40mm f/2.8 |
LensManualDistortionAmount | 0 |
LensModel | OLYMPUS M.12-40mm F2.8 |
LensProfileEnable | 0 |
LensProfileSetup | LensDefaults |
LensSpecification | 12, 40, 2.8, 2.8 |
LightSource | Unknown |
LightValue | 7.1 |
LuminanceAdjustmentAqua | 0 |
LuminanceAdjustmentBlue | 0 |
LuminanceAdjustmentGreen | 0 |
LuminanceAdjustmentMagenta | 0 |
LuminanceAdjustmentOrange | 0 |
LuminanceAdjustmentPurple | 0 |
LuminanceAdjustmentRed | 0 |
LuminanceAdjustmentYellow | 0 |
LuminanceSmoothing | 0 |
Make | OLYMPUS CORPORATION |
MaxApertureValue | 2.8 |
Megapixels | 2.3 |
MeteringMode | Multi-segment |
Model | E-M1MarkII |
ModifyDate (1) | 2020:05:25 22:57:21+02:00 |
ModifyDate | 2020:05:25 22:57:21 |
PaintCorrectionActive | true |
PaintCorrectionAmount | 1.000000 |
PaintCorrectionBrightness | 0.000000 |
PaintCorrectionClarity2012 | 0.000000 |
PaintCorrectionContrast2012 | 0.000000 |
PaintCorrectionDefringe | 0.000000 |
PaintCorrectionExposure2012 (1) | 0.262000 |
PaintCorrectionExposure2012 | -0.071500 |
PaintCorrectionHighlights2012 | 0.000000 |
PaintCorrectionHue | 240.000000 |
PaintCorrectionLocalBlacks2012 | 0.000000 |
PaintCorrectionLocalDehaze | 0.000000 |
PaintCorrectionLocalWhites2012 | 0.000000 |
PaintCorrectionLuminanceNoise | 0.000000 |
PaintCorrectionMaskCenterWeight | 0.204522 |
PaintCorrectionMaskFlow | 0.586000 |
PaintCorrectionMaskRadius | 0.074135 |
PaintCorrectionMaskValue | 1.000000 |
PaintCorrectionMaskWhat | Mask/Paint |
PaintCorrectionMoire | 0.000000 |
PaintCorrectionSaturation | 0.000000 |
PaintCorrectionShadows2012 | 0.000000 |
PaintCorrectionSharpness | 0.000000 |
PaintCorrectionTemperature | 0.000000 |
PaintCorrectionTint | 0.000000 |
PaintCorrectionWhat | Correction |
ParametricDarks | 0 |
ParametricHighlights | 0 |
ParametricHighlightSplit | 75 |
ParametricLights | 0 |
ParametricMidtoneSplit | 50 |
ParametricShadows | 0 |
ParametricShadowSplit | 25 |
PerspectiveAspect | 0 |
PerspectiveHorizontal | 0 |
PerspectiveRotate | 0.0 |
PerspectiveScale | 100 |
PerspectiveUpright | 0 |
PerspectiveVertical | 0 |
PerspectiveX | 0.00 |
PerspectiveY | 0.00 |
PostCropVignetteAmount | 0 |
PrimaryChromaticities | 0.64, 0.33, 0.21, 0.71, 0.15, 0.06 |
ProcessVersion | 6.7 |
ProfileDescription | sRGB IEC61966-2.1 |
RedHue | 0 |
RedSaturation | 0 |
Rights | hall.torstein@gmail.com |
Saturation (1) | 0 |
Saturation | Normal |
SaturationAdjustmentAqua | 0 |
SaturationAdjustmentBlue | 0 |
SaturationAdjustmentGreen | 0 |
SaturationAdjustmentMagenta | 0 |
SaturationAdjustmentOrange | 0 |
SaturationAdjustmentPurple | 0 |
SaturationAdjustmentRed | 0 |
SaturationAdjustmentYellow | 0 |
SceneCaptureType | Standard |
SensitivityType | Standard Output Sensitivity |
Shadows2012 | +100 |
ShadowTint | 0 |
SharpenDetail | 25 |
SharpenEdgeMasking | 0 |
SharpenRadius | +1.0 |
Sharpness (1) | 0 |
Sharpness | Normal |
ShutterSpeed | 0.6 |
ShutterSpeedValue | 0.6 |
Software | Adobe Photoshop Lightroom 6.12 (Windows) |
SplitToningBalance | 0 |
SplitToningHighlightHue | 0 |
SplitToningHighlightSaturation | 0 |
SplitToningShadowHue | 0 |
SplitToningShadowSaturation | 0 |
ToneCurve | 0, 0, 255, 255 |
ToneCurveBlue | 0, 0, 255, 255 |
ToneCurveGreen | 0, 0, 255, 255 |
ToneCurveName | Linear |
ToneCurveName2012 | Linear |
ToneCurvePV2012 | 0, 0, 255, 255 |
ToneCurvePV2012Blue | 0, 0, 255, 255 |
ToneCurvePV2012Green | 0, 0, 255, 255 |
ToneCurvePV2012Red | 0, 0, 255, 255 |
ToneCurveRed | 0, 0, 255, 255 |
ToneMapStrength | 0 |
Version | 9.12 |
Vibrance | 0 |
VignetteAmount | 0 |
WhiteBalance (1) | As Shot |
WhiteBalance | Auto |
WhitePoint | 0.313, 0.329 |
Whites2012 | -33 |