Felt | Verdi |
AlreadyApplied | True |
Aperture | 2.8 |
ApertureValue | 2.8 |
ApproximateFocusDistance | 4.73 |
AutoLateralCA | 1 |
AutoWhiteVersion | 134348800 |
BitsPerSample | 8 |
Blacks2012 | 0 |
BlueHue | 0 |
BlueSaturation | 0 |
CameraProfile | Adobe Standard |
CFAPattern | [Red,Green][Green,Blue] |
CircleOfConfusion | 0.030 mm |
Clarity2012 | -22 |
ColorComponents | 3 |
ColorNoiseReduction | 25 |
ColorNoiseReductionDetail | 50 |
ColorNoiseReductionSmoothness | 50 |
ColorTemperature | 5100 |
ColorTransform | YCbCr |
Contrast | Normal |
Contrast2012 | +28 |
ConvertToGrayscale | False |
CreateDate (1) | 2016:02:19 10:05:42.47 |
CreateDate | 2016:02:19 10:05:42 |
CreatorTool | Adobe Photoshop Lightroom 6.1 (Macintosh) |
CropAngle | 0 |
CropBottom | 0.99622 |
CropConstrainToWarp | 1 |
CropLeft | 0.00378 |
CropRight | 0.920452 |
CropTop | 0.000964 |
CustomRendered | Normal |
DateCreated (1) | 2016:02:19 10:05:37.00 |
DateCreated | 2016:02:19 |
DateTimeOriginal | 2016:02:19 10:05:42 |
DefringeGreenAmount | 0 |
DefringeGreenHueHi | 60 |
DefringeGreenHueLo | 40 |
DefringePurpleAmount | 0 |
DefringePurpleHueHi | 70 |
DefringePurpleHueLo | 30 |
Dehaze | 0 |
DigitalZoomRatio | 1 |
DistortionCorrectionAlreadyApplied | True |
DOF | 0.05 m (4.71 - 4.75 m) |
Exposure2012 | 0.00 |
ExposureCompensation | -1/3 |
ExposureMode | Manual |
ExposureProgram | Manual |
ExposureTime | 1/1600 |
Flash | No Flash |
FNumber | 2.8 |
FocalLength | 270.0 mm |
FocalLength35efl | 270.0 mm (35 mm equivalent: 270.0 mm) |
FocalLengthIn35mmFormat | 270 mm |
Format | image/jpeg |
FOV | 7.6 deg |
GainControl | None |
GrainAmount | 0 |
GreenHue | 0 |
GreenSaturation | 0 |
HasCrop | True |
HasSettings | True |
Highlights2012 | 0 |
HueAdjustmentAqua | 0 |
HueAdjustmentBlue | 0 |
HueAdjustmentGreen | 0 |
HueAdjustmentMagenta | 0 |
HueAdjustmentOrange | 0 |
HueAdjustmentPurple | 0 |
HueAdjustmentRed | 0 |
HueAdjustmentYellow | 0 |
HyperfocalDistance | 866.52 m |
ImageHeight | 2820 |
ImageNumber | 184457 |
ImageSize | 5036x2820 |
ImageWidth | 5036 |
IsMergedPanorama | True |
ISO | 250 |
LateralChromaticAberrationCorrectionAlreadyApplied | True |
Lens | 120.0-300.0 mm f/2.8 |
LensID (1) | 141 |
LensID | Sigma 120-300mm F2.8 DG OS HSM Sports |
LensInfo | 120-300mm f/2.8 |
LensManualDistortionAmount | 0 |
LensModel | 120.0-300.0 mm f/2.8 |
LensProfileChromaticAberrationScale | 100 |
LensProfileDistortionScale | 100 |
LensProfileEnable | 1 |
LensProfileFilename | NIKON CORPORATION (SIGMA 120-300mm F2.8 DG OS HSM S013) - RAW.lcp |
LensProfileName | Adobe (SIGMA 120-300mm F2.8 DG OS HSM S013, NIKON CORPORATION) |
LensProfileSetup | LensDefaults |
LensProfileVignettingScale | 100 |
LightSource | Fine Weather |
LightValue | 12.3 |
LuminanceAdjustmentAqua | 0 |
LuminanceAdjustmentBlue | 0 |
LuminanceAdjustmentGreen | 0 |
LuminanceAdjustmentMagenta | 0 |
LuminanceAdjustmentOrange | 0 |
LuminanceAdjustmentPurple | 0 |
LuminanceAdjustmentRed | 0 |
LuminanceAdjustmentYellow | 0 |
LuminanceSmoothing | 0 |
Make | NIKON CORPORATION |
MaxApertureValue | 2.8 |
Megapixels | 14.2 |
MeteringMode | Spot |
Model | NIKON D3S |
ModifyDate (1) | 2016:03:31 19:35:31+02:00 |
ModifyDate | 2016:03:31 19:35:31 |
Orientation | Horizontal (normal) |
PaintCorrectionActive | true |
PaintCorrectionAmount | 1.000000 |
PaintCorrectionBrightness | 0.000000 |
PaintCorrectionClarity2012 (1) | 0.210233 |
PaintCorrectionClarity2012 (3) | 0.252561 |
PaintCorrectionClarity2012 | -0.000558 |
PaintCorrectionContrast2012 | 0.000000 |
PaintCorrectionDefringe | 0.000000 |
PaintCorrectionExposure2012 (1) | -0.011783 |
PaintCorrectionExposure2012 (2) | -0.035284 |
PaintCorrectionExposure2012 (3) | 0.000000 |
PaintCorrectionExposure2012 (4) | 0.033491 |
PaintCorrectionExposure2012 | 0.053535 |
PaintCorrectionHighlights2012 | 0.000000 |
PaintCorrectionHue | 13.105500 |
PaintCorrectionLocalBlacks2012 | 0.000000 |
PaintCorrectionLocalWhites2012 (1) | 0.000000 |
PaintCorrectionLocalWhites2012 | 0.270108 |
PaintCorrectionLuminanceNoise | 0.000000 |
PaintCorrectionMaskCenterWeight | 0.000000 |
PaintCorrectionMaskFlow | 0.710522 |
PaintCorrectionMaskRadius (1) | 0.046827 |
PaintCorrectionMaskRadius (10) | 0.046914 |
PaintCorrectionMaskRadius (11) | 0.046927 |
PaintCorrectionMaskRadius (12) | 0.012902 |
PaintCorrectionMaskRadius (14) | 0.012872 |
PaintCorrectionMaskRadius (15) | 0.012877 |
PaintCorrectionMaskRadius (16) | 0.012922 |
PaintCorrectionMaskRadius (17) | 0.024118 |
PaintCorrectionMaskRadius (18) | 0.024218 |
PaintCorrectionMaskRadius (19) | 0.024228 |
PaintCorrectionMaskRadius (2) | 0.046815 |
PaintCorrectionMaskRadius (20) | 0.024178 |
PaintCorrectionMaskRadius (21) | 0.024154 |
PaintCorrectionMaskRadius (22) | 0.024133 |
PaintCorrectionMaskRadius (23) | 0.007676 |
PaintCorrectionMaskRadius (24) | 0.007662 |
PaintCorrectionMaskRadius (25) | 0.007675 |
PaintCorrectionMaskRadius (26) | 0.007677 |
PaintCorrectionMaskRadius (27) | 0.013053 |
PaintCorrectionMaskRadius (28) | 0.012977 |
PaintCorrectionMaskRadius (29) | 0.012990 |
PaintCorrectionMaskRadius (3) | 0.046813 |
PaintCorrectionMaskRadius (30) | 0.013001 |
PaintCorrectionMaskRadius (31) | 0.013009 |
PaintCorrectionMaskRadius (32) | 0.013023 |
PaintCorrectionMaskRadius (33) | 0.013036 |
PaintCorrectionMaskRadius (34) | 0.013055 |
PaintCorrectionMaskRadius (35) | 0.013065 |
PaintCorrectionMaskRadius (36) | 0.013071 |
PaintCorrectionMaskRadius (37) | 0.013074 |
PaintCorrectionMaskRadius (38) | 0.013066 |
PaintCorrectionMaskRadius (39) | 0.012983 |
PaintCorrectionMaskRadius (4) | 0.046923 |
PaintCorrectionMaskRadius (40) | 0.018468 |
PaintCorrectionMaskRadius (41) | 0.018454 |
PaintCorrectionMaskRadius (42) | 0.007571 |
PaintCorrectionMaskRadius (43) | 0.007576 |
PaintCorrectionMaskRadius (44) | 0.003050 |
PaintCorrectionMaskRadius (45) | 0.003048 |
PaintCorrectionMaskRadius (46) | 0.364607 |
PaintCorrectionMaskRadius (47) | 0.182629 |
PaintCorrectionMaskRadius (5) | 0.046846 |
PaintCorrectionMaskRadius (6) | 0.046817 |
PaintCorrectionMaskRadius (7) | 0.047121 |
PaintCorrectionMaskRadius (8) | 0.047432 |
PaintCorrectionMaskRadius (9) | 0.047473 |
PaintCorrectionMaskRadius | 0.240496 |
PaintCorrectionMaskValue | 1.000000 |
PaintCorrectionMaskWhat | Mask/Paint |
PaintCorrectionMoire | -0.003199 |
PaintCorrectionSaturation | 0.000000 |
PaintCorrectionShadows2012 | 0.000000 |
PaintCorrectionSharpness | 0.001302 |
PaintCorrectionTemperature | 0.000000 |
PaintCorrectionTint | 0.000000 |
PaintCorrectionWhat | Correction |
ParametricDarks | +13 |
ParametricHighlights | 0 |
ParametricHighlightSplit | 75 |
ParametricLights | 0 |
ParametricMidtoneSplit | 50 |
ParametricShadows | 0 |
ParametricShadowSplit | 25 |
PerspectiveAspect | 0 |
PerspectiveHorizontal | 0 |
PerspectiveRotate | 0.0 |
PerspectiveScale | 100 |
PerspectiveUpright | 0 |
PerspectiveVertical | 0 |
PostCropVignetteAmount | 0 |
ProcessVersion | 6.7 |
ProfileDescription | sRGB IEC61966-2.1 |
Rating | 5 |
RawFileName | DSC_1649-Pano.jpg |
RedHue | 0 |
RedSaturation | 0 |
Saturation (1) | 0 |
Saturation | Normal |
SaturationAdjustmentAqua | 0 |
SaturationAdjustmentBlue | 0 |
SaturationAdjustmentGreen | 0 |
SaturationAdjustmentMagenta | 0 |
SaturationAdjustmentOrange | 0 |
SaturationAdjustmentPurple | 0 |
SaturationAdjustmentRed | 0 |
SaturationAdjustmentYellow | 0 |
ScaleFactor35efl | 1.0 |
SceneCaptureType | Standard |
SceneType | Directly photographed |
SensingMethod | One-chip color area |
SerialNumber | 2058033 |
Shadows2012 | +47 |
ShadowTint | 0 |
SharpenDetail | 25 |
SharpenEdgeMasking | 0 |
SharpenRadius | +1.0 |
Sharpness (1) | 25 |
Sharpness | Normal |
ShutterSpeed | 1/1600 |
ShutterSpeedValue | 1/1600 |
Software | Adobe Photoshop Lightroom 6.1 (Macintosh) |
SplitToningBalance | 0 |
SplitToningHighlightHue | 0 |
SplitToningHighlightSaturation | 0 |
SplitToningShadowHue | 0 |
SplitToningShadowSaturation | 0 |
SubjectDistanceRange | Unknown |
Tint | +10 |
ToneCurve | 0, 0, 255, 255 |
ToneCurveBlue | 0, 0, 255, 255 |
ToneCurveGreen | 0, 0, 255, 255 |
ToneCurveName | Linear |
ToneCurveName2012 | Linear |
ToneCurvePV2012 | 0, 0, 255, 255 |
ToneCurvePV2012Blue | 0, 0, 255, 255 |
ToneCurvePV2012Green | 0, 0, 255, 255 |
ToneCurvePV2012Red | 0, 0, 255, 255 |
ToneCurveRed | 0, 0, 255, 255 |
ToneMapStrength | 0 |
Version | 9.1 |
Vibrance | +15 |
VignetteAmount | 0 |
VignetteCorrectionAlreadyApplied | True |
WhiteBalance (1) | As Shot |
WhiteBalance | Manual |
Whites2012 | 0 |