Felt | Verdi |
AlreadyApplied | True |
Aperture | 8.0 |
ApertureValue | 8.0 |
ApproximateFocusDistance | 4294967295 |
AutoLateralCA | 1 |
AutoWhiteVersion | 134348800 |
BitsPerSample | 8 |
Blacks2012 | -15 |
BlueHue | 0 |
BlueSaturation | 0 |
CameraProfile | Adobe Standard |
CFAPattern | [Red,Green][Green,Blue] |
CircleOfConfusion | 0.030 mm |
Clarity2012 | 0 |
ColorComponents | 3 |
ColorNoiseReduction | 25 |
ColorNoiseReductionDetail | 50 |
ColorNoiseReductionSmoothness | 50 |
ColorTemperature | 8864 |
ColorTransform | YCbCr |
Contrast | Normal |
Contrast2012 | +74 |
ConvertToGrayscale | False |
CreateDate (1) | 2016:01:18 14:37:05.08 |
CreateDate | 2016:01:18 14:37:05 |
CreatorTool | Adobe Photoshop Lightroom 6.1 (Macintosh) |
CropAngle | 0 |
CropBottom | 0.999757 |
CropConstrainToWarp | 1 |
CropLeft | 0.001587 |
CropRight | 0.998413 |
CropTop | 0.002932 |
CustomRendered | Normal |
DateCreated (1) | 2016:01:18 14:37:04.87 |
DateCreated | 2016:01:18 |
DateTimeOriginal | 2016:01:18 14:37:05 |
DefringeGreenAmount | 0 |
DefringeGreenHueHi | 60 |
DefringeGreenHueLo | 40 |
DefringePurpleAmount | 0 |
DefringePurpleHueHi | 70 |
DefringePurpleHueLo | 30 |
Dehaze | 0 |
DigitalZoomRatio | 1 |
DOF | inf (3.26 m - inf) |
Exposure2012 | +0.65 |
ExposureCompensation | -1 |
ExposureMode | Manual |
ExposureProgram | Manual |
ExposureTime | 1/400 |
Flash | No Flash |
FNumber | 8.0 |
FocalLength | 28.0 mm |
FocalLength35efl | 28.0 mm (35 mm equivalent: 28.0 mm) |
FocalLengthIn35mmFormat | 28 mm |
Format | image/jpeg |
FOV | 65.5 deg |
GainControl | High gain up |
GradientBasedCorrActive | true |
GradientBasedCorrAmount | 1.000000 |
GradientBasedCorrBrightness | 0.000000 |
GradientBasedCorrClarity2012 | -0.000558 |
GradientBasedCorrContrast2012 | 0.602240 |
GradientBasedCorrDefringe | 0.000000 |
GradientBasedCorrExposure2012 | 0.000000 |
GradientBasedCorrHighlights2012 | 0.000000 |
GradientBasedCorrHue | 13.105500 |
GradientBasedCorrLocalBlacks2012 | 0.000000 |
GradientBasedCorrLocalWhites2012 | 0.000000 |
GradientBasedCorrLuminanceNoise | 0.000000 |
GradientBasedCorrMaskFullX | 0.547925 |
GradientBasedCorrMaskFullY | 0.492335 |
GradientBasedCorrMaskValue | 1.000000 |
GradientBasedCorrMaskWhat | Mask/Gradient |
GradientBasedCorrMaskZeroX | 0.509843 |
GradientBasedCorrMaskZeroY | 0.091614 |
GradientBasedCorrMoire | -0.003199 |
GradientBasedCorrSaturation | 0.000000 |
GradientBasedCorrShadows2012 | 0.000000 |
GradientBasedCorrSharpness | 0.001302 |
GradientBasedCorrTemperature | 0.257917 |
GradientBasedCorrTint | 0.053854 |
GradientBasedCorrWhat | Correction |
GrainAmount | 0 |
GreenHue | 0 |
GreenSaturation | 0 |
HasCrop | True |
HasExtendedXMP | B6AA946A9089E8E1D2E0045FC6A3078B |
HasSettings | True |
Highlights2012 | -100 |
HueAdjustmentAqua | 0 |
HueAdjustmentBlue | 0 |
HueAdjustmentGreen | 0 |
HueAdjustmentMagenta | 0 |
HueAdjustmentOrange | 0 |
HueAdjustmentPurple | 0 |
HueAdjustmentRed | 0 |
HueAdjustmentYellow | 0 |
HyperfocalDistance | 3.26 m |
ImageHeight | 2823 |
ImageNumber | 181217 |
ImageSize | 4242x2823 |
ImageWidth | 4242 |
IsMergedHDR | True |
ISO | 1000 |
Lens | 28.0-300.0 mm f/3.5-5.6 |
LensID (1) | 165 |
LensID | AF-S Nikkor 28-300mm f/3.5-5.6G ED VR |
LensInfo | 28-300mm f/3.5-5.6 |
LensManualDistortionAmount | 0 |
LensModel | 28.0-300.0 mm f/3.5-5.6 |
LensProfileChromaticAberrationScale | 100 |
LensProfileDistortionScale | 100 |
LensProfileEnable | 1 |
LensProfileFilename | NIKON D3X (Nikon AF-S NIKKOR 28-300mm f3.5-5.6 ED VR) - RAW.lcp |
LensProfileName | Adobe (Nikon AF-S NIKKOR 28-300mm f/3.5-5.6 ED VR) |
LensProfileSetup | LensDefaults |
LensProfileVignettingScale | 100 |
LightSource | Fine Weather |
LightValue | 11.3 |
LuminanceAdjustmentAqua | 0 |
LuminanceAdjustmentBlue | +5 |
LuminanceAdjustmentGreen | 0 |
LuminanceAdjustmentMagenta | 0 |
LuminanceAdjustmentOrange | 0 |
LuminanceAdjustmentPurple | 0 |
LuminanceAdjustmentRed | 0 |
LuminanceAdjustmentYellow | 0 |
LuminanceSmoothing | 0 |
Make | NIKON CORPORATION |
MaxApertureValue | 3.5 |
Megapixels | 12.0 |
MeteringMode | Multi-segment |
Model | NIKON D3S |
ModifyDate (1) | 2016:03:28 17:52:57+02:00 |
ModifyDate | 2016:03:28 17:52:57 |
Orientation | Horizontal (normal) |
PaintCorrectionActive | true |
PaintCorrectionAmount | 1.000000 |
PaintCorrectionBrightness | 0.000000 |
PaintCorrectionClarity2012 | -0.000558 |
PaintCorrectionContrast2012 (1) | 0.619365 |
PaintCorrectionContrast2012 | 0.000000 |
PaintCorrectionDefringe | 0.000000 |
PaintCorrectionExposure2012 (1) | 0.000000 |
PaintCorrectionExposure2012 (2) | -0.183492 |
PaintCorrectionExposure2012 | -0.048346 |
PaintCorrectionHighlights2012 (2) | -0.421621 |
PaintCorrectionHighlights2012 | 0.000000 |
PaintCorrectionHue | 13.105500 |
PaintCorrectionLocalBlacks2012 | 0.000000 |
PaintCorrectionLocalWhites2012 (2) | 0.160511 |
PaintCorrectionLocalWhites2012 | 0.000000 |
PaintCorrectionLuminanceNoise | 0.000000 |
PaintCorrectionMaskCenterWeight (14) | 0.000000 |
PaintCorrectionMaskCenterWeight | 0.000514 |
PaintCorrectionMaskFlow (14) | 0.405108 |
PaintCorrectionMaskFlow | 0.985969 |
PaintCorrectionMaskRadius (1) | 0.072898 |
PaintCorrectionMaskRadius (10) | 0.007154 |
PaintCorrectionMaskRadius (11) | 0.026253 |
PaintCorrectionMaskRadius (13) | 0.016443 |
PaintCorrectionMaskRadius (14) | 0.040048 |
PaintCorrectionMaskRadius (15) | 0.078288 |
PaintCorrectionMaskRadius (28) | 0.326663 |
PaintCorrectionMaskRadius (40) | 0.091361 |
PaintCorrectionMaskRadius (42) | 0.145661 |
PaintCorrectionMaskRadius (55) | 0.085011 |
PaintCorrectionMaskRadius (56) | 0.091887 |
PaintCorrectionMaskRadius (57) | 0.019743 |
PaintCorrectionMaskRadius (58) | 0.018510 |
PaintCorrectionMaskRadius (59) | 0.031384 |
PaintCorrectionMaskRadius (6) | 0.020111 |
PaintCorrectionMaskRadius (60) | 0.119695 |
PaintCorrectionMaskRadius (61) | 0.080472 |
PaintCorrectionMaskRadius (62) | 0.003176 |
PaintCorrectionMaskRadius (63) | 0.003274 |
PaintCorrectionMaskRadius (64) | 0.019392 |
PaintCorrectionMaskRadius (65) | 0.019503 |
PaintCorrectionMaskRadius (8) | 0.010193 |
PaintCorrectionMaskRadius | 0.041165 |
PaintCorrectionMaskValue | 1.000000 |
PaintCorrectionMaskWhat | Mask/Paint |
PaintCorrectionMoire | -0.003199 |
PaintCorrectionSaturation | 0.000000 |
PaintCorrectionShadows2012 (1) | 0.000000 |
PaintCorrectionShadows2012 (2) | -0.220069 |
PaintCorrectionShadows2012 | -0.412033 |
PaintCorrectionSharpness | 0.001302 |
PaintCorrectionTemperature (2) | -0.189549 |
PaintCorrectionTemperature | 0.000000 |
PaintCorrectionTint (2) | 0.104657 |
PaintCorrectionTint | 0.000000 |
PaintCorrectionWhat | Correction |
ParametricDarks | 0 |
ParametricHighlights | 0 |
ParametricHighlightSplit | 75 |
ParametricLights | 0 |
ParametricMidtoneSplit | 50 |
ParametricShadows | 0 |
ParametricShadowSplit | 25 |
PerspectiveAspect | 0 |
PerspectiveHorizontal | 0 |
PerspectiveRotate | 0.0 |
PerspectiveScale | 100 |
PerspectiveUpright | 0 |
PerspectiveVertical | 0 |
PostCropVignetteAmount | 0 |
ProcessVersion | 6.7 |
ProfileDescription | sRGB IEC61966-2.1 |
Rating | 5 |
RawFileName | DSC_8494-HDR.jpg |
RedHue | 0 |
RedSaturation | 0 |
Saturation (1) | 0 |
Saturation | Normal |
SaturationAdjustmentAqua | 0 |
SaturationAdjustmentBlue | -25 |
SaturationAdjustmentGreen | 0 |
SaturationAdjustmentMagenta | 0 |
SaturationAdjustmentOrange | 0 |
SaturationAdjustmentPurple | 0 |
SaturationAdjustmentRed | 0 |
SaturationAdjustmentYellow | 0 |
ScaleFactor35efl | 1.0 |
SceneCaptureType | Standard |
SceneType | Directly photographed |
SensingMethod | One-chip color area |
SerialNumber | 2058033 |
Shadows2012 | +34 |
ShadowTint | 0 |
SharpenDetail | 25 |
SharpenEdgeMasking | 0 |
SharpenRadius | +1.0 |
Sharpness (1) | 25 |
Sharpness | Normal |
ShutterSpeed | 1/400 |
ShutterSpeedValue | 1/400 |
Software | Adobe Photoshop Lightroom 6.1 (Macintosh) |
SplitToningBalance | 0 |
SplitToningHighlightHue | 4 |
SplitToningHighlightSaturation | 0 |
SplitToningShadowHue | 0 |
SplitToningShadowSaturation | 0 |
SubjectDistanceRange | Unknown |
Tint | +26 |
ToneCurve | 0, 0, 255, 255 |
ToneCurveBlue | 0, 0, 255, 255 |
ToneCurveGreen | 0, 0, 255, 255 |
ToneCurveName | Linear |
ToneCurveName2012 | Linear |
ToneCurvePV2012 | 0, 0, 255, 255 |
ToneCurvePV2012Blue | 0, 0, 255, 255 |
ToneCurvePV2012Green | 0, 0, 255, 255 |
ToneCurvePV2012Red | 0, 0, 255, 255 |
ToneCurveRed | 0, 0, 255, 255 |
ToneMapStrength | 0 |
Version | 9.1 |
Vibrance | 0 |
VignetteAmount | 0 |
WhiteBalance (1) | Custom |
WhiteBalance | Manual |
Whites2012 | +47 |